BEGIN:VCALENDAR
VERSION:2.0
PRODID:-//pretix//pretix.eu//
BEGIN:VTIMEZONE
TZID:Europe/Berlin
BEGIN:STANDARD
DTSTART:20001029T040000
RRULE:FREQ=YEARLY;BYDAY=-1SU;BYMONTH=10
TZNAME:CET
TZOFFSETFROM:+0200
TZOFFSETTO:+0100
END:STANDARD
BEGIN:DAYLIGHT
DTSTART:20000326T030000
RRULE:FREQ=YEARLY;BYDAY=-1SU;BYMONTH=3
TZNAME:CEST
TZOFFSETFROM:+0100
TZOFFSETTO:+0200
END:DAYLIGHT
END:VTIMEZONE
BEGIN:VEVENT
UID:pretix-Weizenbaum-Institut-TotalTrust-0@tickets.weizenbaum-institut.de
DTSTART;TZID=Europe/Berlin:20260122T180000
DTEND;TZID=Europe/Berlin:20260122T220000
DESCRIPTION:Tickets: https://tickets.weizenbaum-institut.de/TotalTrust/\nVe
 ranstalter: Weizenbaum-Institut
DTSTAMP:20260423T063540Z
LOCATION:Georg-Neumann-Saal der UdK\, Einsteinufer 43-53\, 10587 Berlin
SUMMARY:Weizenbaum-Filmnacht "Total Trust"
END:VEVENT
END:VCALENDAR
