BEGIN:VCALENDAR
VERSION:2.0
PRODID:-//pretix//pretix.eu//
BEGIN:VTIMEZONE
TZID:Europe/Berlin
BEGIN:STANDARD
DTSTART:20001029T040000
RRULE:FREQ=YEARLY;BYDAY=-1SU;BYMONTH=10
TZNAME:CET
TZOFFSETFROM:+0200
TZOFFSETTO:+0100
END:STANDARD
BEGIN:DAYLIGHT
DTSTART:20000326T030000
RRULE:FREQ=YEARLY;BYDAY=-1SU;BYMONTH=3
TZNAME:CEST
TZOFFSETFROM:+0100
TZOFFSETTO:+0200
END:DAYLIGHT
END:VTIMEZONE
BEGIN:VEVENT
UID:pretix-Weizenbaum-Institut-KIVO-0@tickets.weizenbaum-institut.de
DTSTART;TZID=Europe/Berlin:20251121T150000
DTEND;TZID=Europe/Berlin:20251121T190000
DESCRIPTION:Tickets: https://tickets.weizenbaum-institut.de/KIVO/\nVeransta
 lter: Weizenbaum-Institut
DTSTAMP:20260423T045042Z
LOCATION:Weizenbaum-Institut\, Hardenbergstraße 32 \\\\ 10623 Berlin
SUMMARY:Aufsicht und Durchsetzung der KI-VO
END:VEVENT
END:VCALENDAR
